BEGIN:VCALENDAR
PRODID:-//eluceo/ical//2.0/EN
VERSION:2.0
CALSCALE:GREGORIAN
BEGIN:VEVENT
UID:442c510a818d567dfc125586022ba33f
DTSTAMP:20260423T082848Z
SUMMARY:Lunch mit Referat von Rotarier Dr. Reiner Hauck im Hotel Belvédèr
 e\, 7550 Scuol
DESCRIPTION:Referat von Rotarier Dr. Reiner Hauck aus dem Rotary Club Mark 
 Aurel\, Regensburg.\n\nThema: Grossvaters Bubentraum\, die elektrische Ble
 chspielzeug-Modelleisenbahn.
URL:https://bad-scuol-tarasp-vulpera.rotary2000.ch/bs/agenda/show/62849
DTSTART;TZID=Europe/Zurich:20170222T120000
DTEND;TZID=Europe/Zurich:20170222T140000
LOCATION:Hotel Belvédère\, Scuol
CATEGORIES:Rotary
END:VEVENT
BEGIN:VTIMEZONE
TZID:Europe/Zurich
BEGIN:STANDARD
DTSTART:20170222T120000
TZNAME:CET
TZOFFSETTO:+0100
TZOFFSETFROM:+0100
END:STANDARD
END:VTIMEZONE
END:VCALENDAR
