BEGIN:VCALENDAR
PRODID:-//eluceo/ical//2.0/EN
VERSION:2.0
CALSCALE:GREGORIAN
BEGIN:VEVENT
UID:b942786d0e5fc7bbd73cd06ba458ef26
DTSTAMP:20260422T154904Z
SUMMARY:Apéro mit Vortrag im Hotel Belvédère in Scuol
DESCRIPTION:
URL:https://bad-scuol-tarasp-vulpera.rotary2000.ch/nl/agenda/show/58370
DTSTART;TZID=Europe/Zurich:20160420T180000
DTEND;TZID=Europe/Zurich:20160420T200000
LOCATION:Hotel Belvédère\, Scuol
CATEGORIES:Rotary
END:VEVENT
BEGIN:VTIMEZONE
TZID:Europe/Zurich
BEGIN:DAYLIGHT
DTSTART:20160420T180000
TZNAME:CEST
TZOFFSETTO:+0200
TZOFFSETFROM:+0200
END:DAYLIGHT
END:VTIMEZONE
END:VCALENDAR
