BEGIN:VCALENDAR
PRODID:-//eluceo/ical//2.0/EN
VERSION:2.0
CALSCALE:GREGORIAN
BEGIN:VEVENT
UID:5138387da976c1261cfee383b91d482f
DTSTAMP:20260422T155123Z
SUMMARY:Plauderlunch im Hotel Belvédère in Scuol
DESCRIPTION:
URL:https://bad-scuol-tarasp-vulpera.rotary2000.ch/nl/agenda/show/60443
DTSTART;TZID=Europe/Zurich:20160511T120000
DTEND;TZID=Europe/Zurich:20160511T140000
LOCATION:Hotel Belvédère\, Scuol
CATEGORIES:Rotary
END:VEVENT
BEGIN:VTIMEZONE
TZID:Europe/Zurich
BEGIN:DAYLIGHT
DTSTART:20160511T120000
TZNAME:CEST
TZOFFSETTO:+0200
TZOFFSETFROM:+0200
END:DAYLIGHT
END:VTIMEZONE
END:VCALENDAR
