BEGIN:VCALENDAR
PRODID:-//eluceo/ical//2.0/EN
VERSION:2.0
CALSCALE:GREGORIAN
BEGIN:VEVENT
UID:57ad68d4fc0406d280905f4b1d6917cc
DTSTAMP:20260422T153604Z
SUMMARY:Plauderlunch im Hotel Belvédère in Scuol
DESCRIPTION:
URL:https://bad-scuol-tarasp-vulpera.rotary2000.ch/nl/agenda/show/60447
DTSTART;TZID=Europe/Zurich:20160608T120000
DTEND;TZID=Europe/Zurich:20160608T140000
LOCATION:Hotel Belvédère\, Scuol
CATEGORIES:Rotary
END:VEVENT
BEGIN:VTIMEZONE
TZID:Europe/Zurich
BEGIN:DAYLIGHT
DTSTART:20160608T120000
TZNAME:CEST
TZOFFSETTO:+0200
TZOFFSETFROM:+0200
END:DAYLIGHT
END:VTIMEZONE
END:VCALENDAR
